BEGIN:VCALENDAR
VERSION:2.0
PRODID:-//Broomall Fire Company - ECPv6.15.20//NONSGML v1.0//EN
CALSCALE:GREGORIAN
METHOD:PUBLISH
X-ORIGINAL-URL:https://broomallfirecompany.com
X-WR-CALDESC:Events for Broomall Fire Company
REFRESH-INTERVAL;VALUE=DURATION:PT1H
X-Robots-Tag:noindex
X-PUBLISHED-TTL:PT1H
BEGIN:VTIMEZONE
TZID:America/New_York
BEGIN:DAYLIGHT
TZOFFSETFROM:-0500
TZOFFSETTO:-0400
TZNAME:EDT
DTSTART:20190310T070000
END:DAYLIGHT
BEGIN:STANDARD
TZOFFSETFROM:-0400
TZOFFSETTO:-0500
TZNAME:EST
DTSTART:20191103T060000
END:STANDARD
BEGIN:DAYLIGHT
TZOFFSETFROM:-0500
TZOFFSETTO:-0400
TZNAME:EDT
DTSTART:20200308T070000
END:DAYLIGHT
BEGIN:STANDARD
TZOFFSETFROM:-0400
TZOFFSETTO:-0500
TZNAME:EST
DTSTART:20201101T060000
END:STANDARD
BEGIN:DAYLIGHT
TZOFFSETFROM:-0500
TZOFFSETTO:-0400
TZNAME:EDT
DTSTART:20210314T070000
END:DAYLIGHT
BEGIN:STANDARD
TZOFFSETFROM:-0400
TZOFFSETTO:-0500
TZNAME:EST
DTSTART:20211107T060000
END:STANDARD
END:VTIMEZONE
BEGIN:VEVENT
DTSTART;TZID=America/New_York:20200911T170000
DTEND;TZID=America/New_York:20200911T203000
DTSTAMP:20260425T110740
CREATED:20200813T212236Z
LAST-MODIFIED:20200819T113821Z
UID:4945-1599843600-1599856200@broomallfirecompany.com
SUMMARY:Food Fare
DESCRIPTION:Broomall Fire Company is sponsoring a Food Fare since our annual Spring & Fall Carnivals were canceled. Come out and enjoy your favorite carnival treats and snacks\, great for pick up and a chance to Welcome in Fall! \nFood stations offering funnel cake\, fried Oreos\, cotton candy\, popcorn\, candy & caramel apples\, snow cones\, french fries\, fresh squeezed lemonade\, slushies\, hamburgers\, hot dogs\, corn dogs\, chicken fingers\, sausage and peppers\, mozzarella sticks\, perogies\, cheese steaks and nachos will be open for walk up business. \nPlease come out and support the Broomall Fire Company. It’s a great way to help us offset carnival revenue lost due to Covid-19. Remember to bring your mask and practice social distancing. Parking is available on site. \nWe hope to see you there. \nDates/Times\nFriday\, September 11th – 5:00pm to 8:30pm \nSaturday\, September 12th – 12:00pm to 8:30pm \nSunday\, September 13th – 12:00pm to 6:00pm \nLocation \nLocated on the field adjacent to the Broomall Fire Company\, 1 North Malin Road\, Broomall\, PA 19008.
URL:https://broomallfirecompany.com/event/carnival-food-fare/2020-09-11/
LOCATION:Broomall Fire Company\, 1 North Malin Road\, Broomall\, PA\, 19008\, United States
CATEGORIES:Fundraiser
GEO:39.9828022;-75.364475
X-APPLE-STRUCTURED-LOCATION;VALUE=URI;X-ADDRESS=Broomall Fire Company 1 North Malin Road Broomall PA 19008 United States;X-APPLE-RADIUS=500;X-TITLE=1 North Malin Road:geo:-75.364475,39.9828022
END:VEVENT
END:VCALENDAR