BEGIN:VCALENDAR
VERSION:2.0
PRODID:-//Broomall Fire Company - ECPv6.15.20//NONSGML v1.0//EN
CALSCALE:GREGORIAN
METHOD:PUBLISH
X-WR-CALNAME:Broomall Fire Company
X-ORIGINAL-URL:https://broomallfirecompany.com
X-WR-CALDESC:Events for Broomall Fire Company
REFRESH-INTERVAL;VALUE=DURATION:PT1H
X-Robots-Tag:noindex
X-PUBLISHED-TTL:PT1H
BEGIN:VTIMEZONE
TZID:America/New_York
BEGIN:DAYLIGHT
TZOFFSETFROM:-0500
TZOFFSETTO:-0400
TZNAME:EDT
DTSTART:20190310T070000
END:DAYLIGHT
BEGIN:STANDARD
TZOFFSETFROM:-0400
TZOFFSETTO:-0500
TZNAME:EST
DTSTART:20191103T060000
END:STANDARD
BEGIN:DAYLIGHT
TZOFFSETFROM:-0500
TZOFFSETTO:-0400
TZNAME:EDT
DTSTART:20200308T070000
END:DAYLIGHT
BEGIN:STANDARD
TZOFFSETFROM:-0400
TZOFFSETTO:-0500
TZNAME:EST
DTSTART:20201101T060000
END:STANDARD
BEGIN:DAYLIGHT
TZOFFSETFROM:-0500
TZOFFSETTO:-0400
TZNAME:EDT
DTSTART:20210314T070000
END:DAYLIGHT
BEGIN:STANDARD
TZOFFSETFROM:-0400
TZOFFSETTO:-0500
TZNAME:EST
DTSTART:20211107T060000
END:STANDARD
BEGIN:DAYLIGHT
TZOFFSETFROM:-0500
TZOFFSETTO:-0400
TZNAME:EDT
DTSTART:20220313T070000
END:DAYLIGHT
BEGIN:STANDARD
TZOFFSETFROM:-0400
TZOFFSETTO:-0500
TZNAME:EST
DTSTART:20221106T060000
END:STANDARD
BEGIN:DAYLIGHT
TZOFFSETFROM:-0500
TZOFFSETTO:-0400
TZNAME:EDT
DTSTART:20230312T070000
END:DAYLIGHT
BEGIN:STANDARD
TZOFFSETFROM:-0400
TZOFFSETTO:-0500
TZNAME:EST
DTSTART:20231105T060000
END:STANDARD
END:VTIMEZONE
BEGIN:VEVENT
DTSTART;TZID=America/New_York:20201009T170000
DTEND;TZID=America/New_York:20201009T200000
DTSTAMP:20260425T112949
CREATED:20200921T141448Z
LAST-MODIFIED:20200928T140703Z
UID:4983-1602262800-1602273600@broomallfirecompany.com
SUMMARY:Food Fare
DESCRIPTION:BROOMALL FIRE COMPANY BRINGS “FOOD FARE” TO TOWN\nIf you were not able to join us at our last food fare\, here is another chance.  The Broomall Fire Company is sponsoring a “Food Fare” featuring all of your favorite carnival foods. The event will be held on Friday\, October 9th thru Sunday\, October 11th on firehouse grounds at West Chester Pike and N. Malin Rd.  Friday hours are 5:00 pm to 8.00 pm\, Saturday from 12:00 pm to 8.00 pm and Sunday from 12:00 pm to 8:00 pm. \nFood stations offering\n\nfunnel cake\nfried Oreos\ncotton candy\npopcorn\ncandy & caramel apples\nsnow cones\nfrench fries\nfresh squeezed lemonade\nslushies\nhamburgers\nhot dogs\ncorn dogs\nchicken fingers\nsausage and peppers\nmozzarella sticks\nperogies\ncheese steaks and nachos will be open for walk up business.\n\nPlease come out and support the Broomall Fire Company.  It’s a great way to help us offset carnival revenue lost due to Covid-19. \nRemember to bring your mask and practice social distancing.  Parking is available on site. \nHope to see you there.\n 
URL:https://broomallfirecompany.com/event/food-fare/2020-10-09/
LOCATION:Broomall Fire Company\, 1 North Malin Road\, Broomall\, PA\, 19008\, United States
CATEGORIES:Fundraiser
ATTACH;FMTTYPE=image/jpeg:https://broomallfirecompany.com/wp-content/uploads/2020/09/Funnel-Cake.jpg
GEO:39.9828022;-75.364475
X-APPLE-STRUCTURED-LOCATION;VALUE=URI;X-ADDRESS=Broomall Fire Company 1 North Malin Road Broomall PA 19008 United States;X-APPLE-RADIUS=500;X-TITLE=1 North Malin Road:geo:-75.364475,39.9828022
END:VEVENT
BEGIN:VEVENT
DTSTART;TZID=America/New_York:20201219T090000
DTEND;TZID=America/New_York:20201219T140000
DTSTAMP:20260425T112949
CREATED:20201218T014218Z
LAST-MODIFIED:20201218T014218Z
UID:5146-1608368400-1608386400@broomallfirecompany.com
SUMMARY:Santa Drive-Thru
DESCRIPTION:
URL:https://broomallfirecompany.com/event/santa-drive-thru/
LOCATION:Broomall Fire Company\, 1 North Malin Road\, Broomall\, PA\, 19008\, United States
GEO:39.9828022;-75.364475
X-APPLE-STRUCTURED-LOCATION;VALUE=URI;X-ADDRESS=Broomall Fire Company 1 North Malin Road Broomall PA 19008 United States;X-APPLE-RADIUS=500;X-TITLE=1 North Malin Road:geo:-75.364475,39.9828022
END:VEVENT
BEGIN:VEVENT
DTSTART;TZID=America/New_York:20210604T180000
DTEND;TZID=America/New_York:20210604T230000
DTSTAMP:20260425T112949
CREATED:20210418T003748Z
LAST-MODIFIED:20210606T111825Z
UID:5373-1622829600-1622847600@broomallfirecompany.com
SUMMARY:Spring Carnival
DESCRIPTION:The Broomall Fire Company is sponsoring the Majestic Midways Carnival for two weekends this June*.  The event will be held on the Broomall Fire Company grounds located at North Malin Road & West Chester Pike in Broomall\, PA. \nIn addition to the various carnival rides\, there will be face painting\, a new axe throwing attraction and don’t miss out on the delicious “Nothing Bundt Cakes” for a sweet treat\, all which benefit the Broomall Fire Company. \nA good old fashioned carnival is a great way to kick of Summer time fun with family and friends\, while supporting your local volunteers! \nDates: \nFriday\, June 4th thru Sunday\, June 6th \nFriday\, June 11th thru Sunday\, June 13th \nTimes: \nFridays – 6pm to 11pm \nSaturdays – 3pm to 11pm \nSundays – 1pm to 6pm \nPricing Info: \nNew Carnival Credits program being launched by Majestic Midways which replaces paper tickets.  Credits are purchased (cash or credit) via kiosk and then used at rides & participating vendors throughout the carnival grounds utilizing several electronic means (app\, wrist band\, card\, etc.) as seen at other amusement parks.  Additional info can be found at the kiosk(s) and a Majestic Midways staff member will be on site to help answer any questions. \nParking Info: \nParking is available at the St. Lukes Greek Orthodox Church (35 N. Malin Road\, Broomall) & DCIU (85 N. Malin Road\, Broomall)\,  both just a short ride past the carnival grounds.  A free shuttle bus will be rounding to pickup and drop off throughout the carnival. \n*Any applicable COVID-19 precautions will be followed per CDC & State/Local guidelines \n 
URL:https://broomallfirecompany.com/event/spring-carnival/2021-06-04/
LOCATION:Broomall Fire Company\, 1 North Malin Road\, Broomall\, PA\, 19008\, United States
GEO:39.9828022;-75.364475
X-APPLE-STRUCTURED-LOCATION;VALUE=URI;X-ADDRESS=Broomall Fire Company 1 North Malin Road Broomall PA 19008 United States;X-APPLE-RADIUS=500;X-TITLE=1 North Malin Road:geo:-75.364475,39.9828022
END:VEVENT
BEGIN:VEVENT
DTSTART;TZID=America/New_York:20210910T180000
DTEND;TZID=America/New_York:20210910T230000
DTSTAMP:20260425T112949
CREATED:20210731T151305Z
LAST-MODIFIED:20210802T013458Z
UID:5507-1631296800-1631314800@broomallfirecompany.com
SUMMARY:Fall Carnival
DESCRIPTION:The Broomall Fire Company is sponsoring the Majestic Midways Carnival for one weekend this September*.  The event will be held on the Broomall Fire Company grounds located at North Malin Road & West Chester Pike in Broomall\, PA. \nIn addition to the various carnival rides\, there will be face painting\, a new axe throwing attraction and don’t miss out on the delicious “Nothing Bundt Cakes” for a sweet treat\, all which benefit the Broomall Fire Company. \nA good old fashioned carnival is a great way to kick off the cooler Fall weather with family and friends all while supporting your local volunteers! \nDates: \nFriday\, September 10th – Sunday\, September 12th \nTimes: \nFriday – 6pm to 11pm \nSaturday – 3pm to 11pm \nSunday – 1pm to 6pm \nPricing Info: \nNew Carnival Credits program being launched by Majestic Midways which replaces paper tickets.  Credits are purchased (cash or credit) via kiosk and then used at rides & participating vendors throughout the carnival grounds utilizing several electronic means (app\, wrist band\, card\, etc.) as seen at other amusement parks.  Additional info can be found at the kiosk(s) and a Majestic Midways staff member will be on site to help answer any questions. \nParking Info: \nParking is available at the St. Lukes Greek Orthodox Church (35 N. Malin Road\, Broomall) & DCIU (85 N. Malin Road\, Broomall)\,  both just a short ride past the carnival grounds.  A free shuttle bus will be rounding to pickup and drop off throughout the carnival. \n*Any applicable COVID-19 precautions will be followed per CDC & State/Local guidelines \n  \n \n  \n  \n  \n 
URL:https://broomallfirecompany.com/event/fall-carnival/2021-09-10/
LOCATION:Broomall Fire Company\, 1 North Malin Road\, Broomall\, PA\, 19008\, United States
GEO:39.9828022;-75.364475
X-APPLE-STRUCTURED-LOCATION;VALUE=URI;X-ADDRESS=Broomall Fire Company 1 North Malin Road Broomall PA 19008 United States;X-APPLE-RADIUS=500;X-TITLE=1 North Malin Road:geo:-75.364475,39.9828022
END:VEVENT
BEGIN:VEVENT
DTSTART;TZID=America/New_York:20210926T090000
DTEND;TZID=America/New_York:20210926T150000
DTSTAMP:20260425T112949
CREATED:20210918T164738Z
LAST-MODIFIED:20210918T164738Z
UID:5562-1632646800-1632668400@broomallfirecompany.com
SUMMARY:Hero Scholarship Flea Market
DESCRIPTION:The Marple Township Hero Scholarship Fund is hosting the 46th Annual Flea Market*! \nThe event will be held at the Delaware County Community College in Marple Twp. \nProceeds benefit the Hero Scholarship Fund which supports the children of fallen Marple Twp. police officers\, firefighters\, & emergency medical personnel lost in the line of duty. \nDate: \nSunday\, September 26\, 2021 (No Rain Date) \nTime: \n9am-3pm \nPricing Info: \nFREE! \nParking Info: \nFREE! \nEnter from the Media Line Road entrance and you will be directed where parking is available on the campus. \n  \n  \nCome shop the flea market\, enjoy food from local vendors\, take a chance at the 50/50 raffle\, and ultimately support your local emergency responders! \n  \n*Any applicable COVID-19 precautions will be followed per CDC & State/Local guidelines
URL:https://broomallfirecompany.com/event/hero-scholarship-flea-market/
LOCATION:Delaware County Community College\, 901 S. Media Line Road\, Media\, PA\, 19063\, United States
GEO:39.9674581;-75.3928612
X-APPLE-STRUCTURED-LOCATION;VALUE=URI;X-ADDRESS=Delaware County Community College 901 S. Media Line Road Media PA 19063 United States;X-APPLE-RADIUS=500;X-TITLE=901 S. Media Line Road:geo:-75.3928612,39.9674581
END:VEVENT
BEGIN:VEVENT
DTSTART;TZID=America/New_York:20211005T180000
DTEND;TZID=America/New_York:20211005T210000
DTSTAMP:20260425T112949
CREATED:20210918T163510Z
LAST-MODIFIED:20210918T163510Z
UID:5558-1633456800-1633467600@broomallfirecompany.com
SUMMARY:Fire Prevention Open House
DESCRIPTION:The Broomall Fire Company is sponsoring a Fire Prevention Open House*! \nThe event will be held at the firehouse located at North Malin Road & West Chester Pike in Broomall\, PA. \nA family oriented event showing multiple firefighting/rescue demonstrations\, showcasing numerous pieces of emergency equipment from the area\, while providing an educational opportunity for the kids! \nDate: \nTuesday\, October 5\, 2021 \nTime: \n6p-9pm \nPricing Info: \nFREE! \nCome out an enjoy a nice fall night to learn more about fire prevention while meeting your local emergency responders! \n  \n*Any applicable COVID-19 precautions will be followed per CDC & State/Local guidelines
URL:https://broomallfirecompany.com/event/fire-prevention-open-house/
LOCATION:Broomall Fire Company\, 1 North Malin Road\, Broomall\, PA\, 19008\, United States
GEO:39.9828022;-75.364475
X-APPLE-STRUCTURED-LOCATION;VALUE=URI;X-ADDRESS=Broomall Fire Company 1 North Malin Road Broomall PA 19008 United States;X-APPLE-RADIUS=500;X-TITLE=1 North Malin Road:geo:-75.364475,39.9828022
END:VEVENT
BEGIN:VEVENT
DTSTART;TZID=America/New_York:20220422T180000
DTEND;TZID=America/New_York:20220422T230000
DTSTAMP:20260425T112949
CREATED:20220315T203554Z
LAST-MODIFIED:20220315T203726Z
UID:5716-1650650400-1650668400@broomallfirecompany.com
SUMMARY:2022 Spring Carnival
DESCRIPTION:The Broomall Fire Company is sponsoring the Majestic Midways Carnival for two weekends this Spring. \nThe event will be held on the Broomall Fire Company fair grounds located at North Malin Road & West Chester Pike in Broomall\, PA. \nIn addition to the various carnival rides\, there will be face painting\, an escape room\, games\, and delicious treats\, all which benefit the Broomall Fire Company. \nA good old fashioned carnival is a great way to kick off warmer weather and some Spring time fun with family and friends\, while supporting your local volunteers! \nDates: \nFriday\, April 22nd – Sunday\, April 24th \n& \nFriday\, April 29th – Sunday\, May 1st \nTimes: \nFridays – 6pm to 11pm \nSaturdays – 3pm to 11pm \nSundays – 1pm to 6pm \nPricing Info: \nNew Carnival Credits program being launched by Majestic Midways which replaces paper tickets.  Credits are purchased (cash or credit) via kiosk and then used at rides & participating vendors throughout the carnival grounds utilizing several electronic means (app\, wrist band\, card\, etc.) as seen at other amusement parks.  Additional info can be found at the kiosk(s) and a Majestic Midways staff member will be on site to help answer any questions. \nParking Info: \nParking will be available at the corner of West Chester Pike & N. Malin Road (old Wells Fargo Bank lot) and additional parking is available at the DCIU (85 N. Malin Road\, Broomall)\,  just a short ride past the carnival grounds.  A free shuttle bus will be rounding to pickup and drop off throughout the carnival from the DCIU. \n 
URL:https://broomallfirecompany.com/event/5716/2022-04-22/
LOCATION:Broomall Fire Company\, 1 North Malin Road\, Broomall\, PA\, 19008\, United States
GEO:39.9828022;-75.364475
X-APPLE-STRUCTURED-LOCATION;VALUE=URI;X-ADDRESS=Broomall Fire Company 1 North Malin Road Broomall PA 19008 United States;X-APPLE-RADIUS=500;X-TITLE=1 North Malin Road:geo:-75.364475,39.9828022
END:VEVENT
BEGIN:VEVENT
DTSTART;TZID=America/New_York:20220909T180000
DTEND;TZID=America/New_York:20220909T220000
DTSTAMP:20260425T112949
CREATED:20220727T221340Z
LAST-MODIFIED:20220804T013850Z
UID:5852-1662746400-1662760800@broomallfirecompany.com
SUMMARY:2022 Fall Carnival
DESCRIPTION:The Broomall Fire Company is sponsoring the Majestic Midways Carnival for one weekend this Fall. \nThe event will be held on the Broomall Fire Company fair grounds located at North Malin Road & West Chester Pike in Broomall\, PA. \nIn addition to the various carnival rides\, there will be face painting\,  games\, and delicious treats\, all which benefit the Broomall Fire Company. \nA good old fashioned carnival is a great way to kick off cooler weather and some Fall time fun with family and friends\, while supporting your local volunteers! \nDates: (**ONE WEEKEND ONLY**) \nFriday\, September 9th \nSaturday\, September 10th \nSunday\, September 11th \nTimes: (**NEW TIMES**) \nFridays – 6pm to 10pm \nSaturdays – 3pm to 10pm \nSundays – 12pm to 6pm \nPricing Info: \nNew Carnival Credits program being launched by Majestic Midways which replaces paper tickets.  Credits are purchased (cash or credit) via kiosk and then used at rides & participating vendors throughout the carnival grounds utilizing several electronic means (app\, wrist band\, card\, etc.) as seen at other amusement parks.  Additional info can be found at the kiosk(s) and a Majestic Midways staff member will be on site to help answer any questions. \nParking Info: \nSt. Luke Greek Orthodox Church (35 N. Malin Road\, Broomall) \nDCIU (85 N. Malin Road\, Broomall) \nD’Anjolell Funeral Home (2811 W. Chester Pike\, Broomall) \nAll locations are just a short ride past the carnival grounds.  A free shuttle bus will be rounding to pickup and drop off throughout the carnival from those three locations. \nLimited on street parking is available around the location\, we ask that you be respectful of our local private property owners and park legally so as not to block driveways\, handicapped ramps\, fire hydrants\, and please abide by all applicable signage.
URL:https://broomallfirecompany.com/event/2022-fall-carnival/2022-09-09/
LOCATION:Broomall Fire Company\, 1 North Malin Road\, Broomall\, PA\, 19008\, United States
GEO:39.9828022;-75.364475
X-APPLE-STRUCTURED-LOCATION;VALUE=URI;X-ADDRESS=Broomall Fire Company 1 North Malin Road Broomall PA 19008 United States;X-APPLE-RADIUS=500;X-TITLE=1 North Malin Road:geo:-75.364475,39.9828022
END:VEVENT
END:VCALENDAR